Workbook

Sheet КОШТОРИС 
C1: Додаток №______
C2: до Договору про надання гранту №_____________
C3: від "____" _______________________ 2026 року
A5: КОШТОРИС ВИТРАТ
A7: Конкурсна програма: | C7: ='РОЗРАХУНКИ'!C6
A8: Суб`єкт подання | C8: ='РОЗРАХУНКИ'!C7
A9: Назва молодіжного проекту: | C9: ='РОЗРАХУНКИ'!C8
A10: Дата початку проєкту: | C10: ='РОЗРАХУНКИ'!C9
A11: Дата завершення проєкту: | C11: ='РОЗРАХУНКИ'!C10
A13: № з/п | B13: Найменування статті витрат | D13: Обсяг витрат, грн. *
A14: 1. | B14: Оплата послуг залучених спеціалістів | D14: ='РОЗРАХУНКИ'!F19 -> 0
A15: 2. | B15: Оплата харчування учасникам проєкту, заходу | D15: ='РОЗРАХУНКИ'!F25 -> 0
A16: 3. | B16: Оренда приміщень, території, споруди для проведення проєкту, заходу (чи плату за користування ними, витрати на їх обслуговування і експлуатацію) | D16: ='РОЗРАХУНКИ'!F31 -> 0
A17: 4. | B17: Оренда обладнання, оргтехніки (чи плату за користування ними), витрати на їх обслуговування і експлуатацію | D17: ='РОЗРАХУНКИ'!F37 -> 0
A18: 5. | B18: Транспортні послуги (у тому числі оренда транспортних засобів) | D18: ='РОЗРАХУНКИ'!F43 -> 0
A19: 6. | B19: Придбання господарчих товарів, обладнання, інвентарю, малоцінних предметів | D19: ='РОЗРАХУНКИ'!F49 -> 0
A20: 7. | B20: Придбання канцелярських товарів | D20: ='РОЗРАХУНКИ'!F55 -> 0
A21: 8. | B21: Поліграфія | D21: ='РОЗРАХУНКИ'!F66 -> 0
A22: 9. | B22: Інформаційні послуги | D22: ='РОЗРАХУНКИ'!F73 -> 0
A23: 10. | B23: Інші витрати, що обумовлені характером та специфікою проведення конкретного проєкту, заходу та включення яких належним чином обґрунтовано | D23: ='РОЗРАХУНКИ'!F81 -> 0
A24: Загальна сума ВИТРАТ | D24: =SUM(D14:D23) -> 0
A26: *Важливо! Стовпець «Обсяг витрат, грн» заповнюється автоматично та НЕ ПІДЛЯГАЄ ручному редагуванню. Суми у цьому стовпці автоматично розраховуються на підставі даних, внесених на сторінці «Розрахунки». Для коригування суми витрат необхідно внести відповідні зміни виключно на сторінці «Розрахунки».
A28: (ім'я, прізвище) | D28: (підпис)

Sheet РОЗРАХУНКИ
E1: Додаток №______
E2: до Договору про надання гранту №_____________
E3: від "____" _______________________ 2026 року
A5: РОЗРАХУНКИ ДО КОШТОРИСУ ВИТРАТ
A6: Конкурсна програма:
A7: Суб`єкт подання:
A8: Назва молодіжного проекту:
A9: Дата початку проєкту:
A10: Дата завершення проєкту:
A12: № | B12: Найменування витрат | C12: Одиниця виміру | D12: Витрати за рахунок гранту Фонду | G12: Обґрунтування та деталізація витрат
D13: Кількість/ Період | E13: Вартість за одиницю, грн | F13: Загальна сума, грн
A14: 1 | B14: Оплата послуг залучених спеціалістів
A15: 1.2 | B15: За договорами з фізичними особами-підприємцями (суб`'єктами господарювання)
A16: 1.2.1 | B16: ПІБ | C16: місяців (днів або годин) | E16: 0 | F16: =D16*E16 -> 0 | G16: Конкретна назва послуги/ роботи, посилання на Резюме, ТЗ, листи підтримки тощо
A17: ... | C17: місяців (днів або годин) | E17: 0 | F17: =D17*E17 -> 0
A18: ... | C18: місяців (днів або годин) | E18: 0 | F18: =D18*E18 -> 0
A19: Всього за статею: | F19: =SUM(F16:F18) -> 0
A20: 2 | B20: Оплата харчування учасникам проєкту, заходу
A21: 2.1 | B21: Послуги з харчування
A22: 2.1.1 | B22: Послуги з харчування (сніданок/обід/вечеря/кава-брейк) | C22: доба | E22: 0 | F22: =D22*E22 -> 0 | G22: Потреба для реалізації проєкту
C23: доба | E23: 0 | F23: =D23*E23 -> 0
C24: доба | E24: 0 | F24: =D24*E24 -> 0
A25: Всього за статею: | F25: =F24+F23+F22 -> 0
A26: 3 | B26: Оренда приміщень, території, споруди для проведення проєкту, заходу (чи плату за користування ними, витрати на їх обслуговування і експлуатацію)
A27: 3.1 | B27: Оренда приміщень, території, споруди для проведення проєкту, заходу (чи плату за користування ними, витрати на їх обслуговування і експлуатацію)
A28: 3.1.1 | B28: Послуги з оренди найменування | C28: кв.м (годин, діб) | E28: 0 | F28: =D28*E28 -> 0 | G28: Адреса орендованого приміщення, із зазначенням метражу, годин оренди
A29: ... | C29: кв.м (годин, діб) | E29: 0 | F29: =D29*E29 -> 0
A30: ... | C30: кв.м (годин, діб) | E30: 0 | F30: =D30*E30 -> 0
A31: Всього за статею: | F31: =SUM(F28:F30) -> 0
A32: 4 | B32: Оренда обладнання, оргтехніки (чи плату за користування ними), витрати на їх обслуговування і експлуатацію
A33: 4.1 | B33: Оренда обладнання, оргтехніки (чи плату за користування ними), витрати на їх обслуговування і експлуатацію
A34: 4.1.1 | B34: Послуги з оренди повне найменування одиниці | C34: шт. (діб) | E34: 0 | F34: =D34*E34 -> 0
A35: ... | C35: шт. (діб) | E35: 0 | F35: =D35*E35 -> 0
A36: ... | C36: шт. (діб) | E36: 0 | F36: =D36*E36 -> 0
A37: Всього за статею: | F37: =SUM(F34:F36) -> 0
A38: 5 | B38: Транспортні послуги (у тому числі оренда транспортних засобів)
A39: 5.1 | B39: Транспортні послуги (у тому числі оренда транспортних засобів)
A40: 5.1.1 | B40: Транспортні послуги легкового автомобіля або оренда легкового автомобіля | C40: км (годин) | E40: 0 | F40: =D40*E40 -> 0 | G40: Зазначення маршруту, кілометражу/кількості годин
A41: ... | C41: км (годин) | E41: 0 | F41: =D41*E41 -> 0
A42: ... | C42: км (годин) | E42: 0 | F42: =D42*E42 -> 0
...
